BEGIN:VCALENDAR
VERSION:2.0
PRODID:-//Archers de Draveil Sénart Val de Seine - ECPv6.15.20//NONSGML v1.0//EN
CALSCALE:GREGORIAN
METHOD:PUBLISH
X-ORIGINAL-URL:https://archersdedraveil.com
X-WR-CALDESC:Évènements pour Archers de Draveil Sénart Val de Seine
REFRESH-INTERVAL;VALUE=DURATION:PT1H
X-Robots-Tag:noindex
X-PUBLISHED-TTL:PT1H
BEGIN:VTIMEZONE
TZID:Europe/Paris
BEGIN:DAYLIGHT
TZOFFSETFROM:+0100
TZOFFSETTO:+0200
TZNAME:CEST
DTSTART:20230326T010000
END:DAYLIGHT
BEGIN:STANDARD
TZOFFSETFROM:+0200
TZOFFSETTO:+0100
TZNAME:CET
DTSTART:20231029T010000
END:STANDARD
BEGIN:DAYLIGHT
TZOFFSETFROM:+0100
TZOFFSETTO:+0200
TZNAME:CEST
DTSTART:20240331T010000
END:DAYLIGHT
BEGIN:STANDARD
TZOFFSETFROM:+0200
TZOFFSETTO:+0100
TZNAME:CET
DTSTART:20241027T010000
END:STANDARD
BEGIN:DAYLIGHT
TZOFFSETFROM:+0100
TZOFFSETTO:+0200
TZNAME:CEST
DTSTART:20250330T010000
END:DAYLIGHT
BEGIN:STANDARD
TZOFFSETFROM:+0200
TZOFFSETTO:+0100
TZNAME:CET
DTSTART:20251026T010000
END:STANDARD
END:VTIMEZONE
BEGIN:VEVENT
DTSTART;VALUE=DATE:20240420
DTEND;VALUE=DATE:20240421
DTSTAMP:20260421T033814
CREATED:20240227T130812Z
LAST-MODIFIED:20240413T154228Z
UID:24427-1713571200-1713657599@archersdedraveil.com
SUMMARY:Concours campagne Samedi 20 avril
DESCRIPTION:
URL:https://archersdedraveil.com/event/concours-campagne-samedi-20-avril/
LOCATION:Draveil\, 44 Rue Charles Mory\, Draveil\, 91210\, France
ORGANIZER;CN="ARCHERS DE DRAVEIL SENART":MAILTO:concours@archersdedraveil.com
END:VEVENT
BEGIN:VEVENT
DTSTART;VALUE=DATE:20240421
DTEND;VALUE=DATE:20240422
DTSTAMP:20260421T033814
CREATED:20240227T130942Z
LAST-MODIFIED:20240406T055504Z
UID:24429-1713657600-1713743999@archersdedraveil.com
SUMMARY:Concours campagne Dimanche 21 avril
DESCRIPTION:
URL:https://archersdedraveil.com/event/concours-campagne-dimanche-21-avril/
LOCATION:Draveil\, 44 Rue Charles Mory\, Draveil\, 91210\, France
ORGANIZER;CN="ARCHERS DE DRAVEIL SENART":MAILTO:concours@archersdedraveil.com
END:VEVENT
END:VCALENDAR