BEGIN:VCALENDAR
VERSION:2.0
PRODID:-//Archers de Draveil Sénart Val de Seine - ECPv6.15.20//NONSGML v1.0//EN
CALSCALE:GREGORIAN
METHOD:PUBLISH
X-WR-CALNAME:Archers de Draveil Sénart Val de Seine
X-ORIGINAL-URL:https://archersdedraveil.com
X-WR-CALDESC:Évènements pour Archers de Draveil Sénart Val de Seine
REFRESH-INTERVAL;VALUE=DURATION:PT1H
X-Robots-Tag:noindex
X-PUBLISHED-TTL:PT1H
BEGIN:VTIMEZONE
TZID:Europe/Paris
BEGIN:DAYLIGHT
TZOFFSETFROM:+0100
TZOFFSETTO:+0200
TZNAME:CEST
DTSTART:20230326T010000
END:DAYLIGHT
BEGIN:STANDARD
TZOFFSETFROM:+0200
TZOFFSETTO:+0100
TZNAME:CET
DTSTART:20231029T010000
END:STANDARD
BEGIN:DAYLIGHT
TZOFFSETFROM:+0100
TZOFFSETTO:+0200
TZNAME:CEST
DTSTART:20240331T010000
END:DAYLIGHT
BEGIN:STANDARD
TZOFFSETFROM:+0200
TZOFFSETTO:+0100
TZNAME:CET
DTSTART:20241027T010000
END:STANDARD
BEGIN:DAYLIGHT
TZOFFSETFROM:+0100
TZOFFSETTO:+0200
TZNAME:CEST
DTSTART:20250330T010000
END:DAYLIGHT
BEGIN:STANDARD
TZOFFSETFROM:+0200
TZOFFSETTO:+0100
TZNAME:CET
DTSTART:20251026T010000
END:STANDARD
END:VTIMEZONE
BEGIN:VEVENT
DTSTART;TZID=Europe/Paris:20240602T090000
DTEND;TZID=Europe/Paris:20240602T133000
DTSTAMP:20260421T033126
CREATED:20240327T111524Z
LAST-MODIFIED:20240404T093130Z
UID:24625-1717318800-1717335000@archersdedraveil.com
SUMMARY:Concours 3D dimanche 2 juin matin
DESCRIPTION:
URL:https://archersdedraveil.com/event/concours-3d-dimanche-2-juin-matin-2/
LOCATION:Draveil\, 44 Rue Charles Mory\, Draveil\, 91210\, France
ORGANIZER;CN="ARCHERS DE DRAVEIL SENART":MAILTO:concours@archersdedraveil.com
END:VEVENT
BEGIN:VEVENT
DTSTART;TZID=Europe/Paris:20240602T133000
DTEND;TZID=Europe/Paris:20240602T180000
DTSTAMP:20260421T033126
CREATED:20240327T102733Z
LAST-MODIFIED:20240327T102733Z
UID:24614-1717335000-1717351200@archersdedraveil.com
SUMMARY:Concours 3D dimanche 2 juin après-midi
DESCRIPTION:
URL:https://archersdedraveil.com/event/concours-3d-dimanche-2-juin-apres-midi/
LOCATION:Draveil\, 44 Rue Charles Mory\, Draveil\, 91210\, France
ORGANIZER;CN="ARCHERS DE DRAVEIL SENART":MAILTO:concours@archersdedraveil.com
END:VEVENT
END:VCALENDAR