BEGIN:VCALENDAR
VERSION:2.0
PRODID:-//Archers de Draveil Sénart Val de Seine - ECPv6.15.20//NONSGML v1.0//EN
CALSCALE:GREGORIAN
METHOD:PUBLISH
X-ORIGINAL-URL:https://archersdedraveil.com
X-WR-CALDESC:Évènements pour Archers de Draveil Sénart Val de Seine
REFRESH-INTERVAL;VALUE=DURATION:PT1H
X-Robots-Tag:noindex
X-PUBLISHED-TTL:PT1H
BEGIN:VTIMEZONE
TZID:Europe/Paris
BEGIN:DAYLIGHT
TZOFFSETFROM:+0100
TZOFFSETTO:+0200
TZNAME:CEST
DTSTART:20230326T010000
END:DAYLIGHT
BEGIN:STANDARD
TZOFFSETFROM:+0200
TZOFFSETTO:+0100
TZNAME:CET
DTSTART:20231029T010000
END:STANDARD
BEGIN:DAYLIGHT
TZOFFSETFROM:+0100
TZOFFSETTO:+0200
TZNAME:CEST
DTSTART:20240331T010000
END:DAYLIGHT
BEGIN:STANDARD
TZOFFSETFROM:+0200
TZOFFSETTO:+0100
TZNAME:CET
DTSTART:20241027T010000
END:STANDARD
BEGIN:DAYLIGHT
TZOFFSETFROM:+0100
TZOFFSETTO:+0200
TZNAME:CEST
DTSTART:20250330T010000
END:DAYLIGHT
BEGIN:STANDARD
TZOFFSETFROM:+0200
TZOFFSETTO:+0100
TZNAME:CET
DTSTART:20251026T010000
END:STANDARD
END:VTIMEZONE
BEGIN:VEVENT
DTSTART;TZID=Europe/Paris:20240309T090000
DTEND;TZID=Europe/Paris:20240309T133000
DTSTAMP:20260421T073821
CREATED:20240108T075247Z
LAST-MODIFIED:20240208T130521Z
UID:24223-1709974800-1709991000@archersdedraveil.com
SUMMARY:Concours nature samedi 9 mars 2024-Matin
DESCRIPTION:
URL:https://archersdedraveil.com/event/concours-nature-samedi-9-mars-matin/
LOCATION:Draveil\, 44 Rue Charles Mory\, Draveil\, 91210\, France
ORGANIZER;CN="ARCHERS DE DRAVEIL SENART":MAILTO:concours@archersdedraveil.com
END:VEVENT
BEGIN:VEVENT
DTSTART;TZID=Europe/Paris:20240309T133000
DTEND;TZID=Europe/Paris:20240309T170000
DTSTAMP:20260421T073821
CREATED:20240108T080011Z
LAST-MODIFIED:20240208T175614Z
UID:24227-1709991000-1710003600@archersdedraveil.com
SUMMARY:Concours nature samedi 9 mars 2024-Après-midi
DESCRIPTION:
URL:https://archersdedraveil.com/event/concours-nature-samedi-9-mars-2024-apres-midi/
LOCATION:Draveil\, 44 Rue Charles Mory\, Draveil\, 91210\, France
ORGANIZER;CN="ARCHERS DE DRAVEIL SENART":MAILTO:concours@archersdedraveil.com
END:VEVENT
END:VCALENDAR