BEGIN:VCALENDAR
VERSION:2.0
PRODID:-//Archers de Draveil Sénart Val de Seine - ECPv6.15.20//NONSGML v1.0//EN
CALSCALE:GREGORIAN
METHOD:PUBLISH
X-ORIGINAL-URL:https://archersdedraveil.com
X-WR-CALDESC:Évènements pour Archers de Draveil Sénart Val de Seine
REFRESH-INTERVAL;VALUE=DURATION:PT1H
X-Robots-Tag:noindex
X-PUBLISHED-TTL:PT1H
BEGIN:VTIMEZONE
TZID:Europe/Paris
BEGIN:DAYLIGHT
TZOFFSETFROM:+0100
TZOFFSETTO:+0200
TZNAME:CEST
DTSTART:20220327T010000
END:DAYLIGHT
BEGIN:STANDARD
TZOFFSETFROM:+0200
TZOFFSETTO:+0100
TZNAME:CET
DTSTART:20221030T010000
END:STANDARD
BEGIN:DAYLIGHT
TZOFFSETFROM:+0100
TZOFFSETTO:+0200
TZNAME:CEST
DTSTART:20230326T010000
END:DAYLIGHT
BEGIN:STANDARD
TZOFFSETFROM:+0200
TZOFFSETTO:+0100
TZNAME:CET
DTSTART:20231029T010000
END:STANDARD
BEGIN:DAYLIGHT
TZOFFSETFROM:+0100
TZOFFSETTO:+0200
TZNAME:CEST
DTSTART:20240331T010000
END:DAYLIGHT
BEGIN:STANDARD
TZOFFSETFROM:+0200
TZOFFSETTO:+0100
TZNAME:CET
DTSTART:20241027T010000
END:STANDARD
END:VTIMEZONE
BEGIN:VEVENT
DTSTART;TZID=Europe/Paris:20231028T080000
DTEND;TZID=Europe/Paris:20231028T133000
DTSTAMP:20260421T200656
CREATED:20230904T152814Z
LAST-MODIFIED:20240108T075633Z
UID:23704-1698480000-1698499800@archersdedraveil.com
SUMMARY:Concours Nature Samedi 28 octobre - Matin
DESCRIPTION:
URL:https://archersdedraveil.com/event/concours-nature-samedi-28-octobre-matin/
LOCATION:Draveil\, 44 Rue Charles Mory\, Draveil\, 91210\, France
ORGANIZER;CN="ARCHERS DE DRAVEIL SENART":MAILTO:concours@archersdedraveil.com
END:VEVENT
BEGIN:VEVENT
DTSTART;TZID=Europe/Paris:20231028T133000
DTEND;TZID=Europe/Paris:20231028T170000
DTSTAMP:20260421T200656
CREATED:20230904T153006Z
LAST-MODIFIED:20240108T075615Z
UID:23706-1698499800-1698512400@archersdedraveil.com
SUMMARY:Concours Nature Samedi 28 octobre Après-midi
DESCRIPTION:
URL:https://archersdedraveil.com/event/concours-nature-samedi-28-octobre-apres-midi/
LOCATION:Draveil\, 44 Rue Charles Mory\, Draveil\, 91210\, France
ORGANIZER;CN="ARCHERS DE DRAVEIL SENART":MAILTO:concours@archersdedraveil.com
END:VEVENT
END:VCALENDAR