BEGIN:VCALENDAR
VERSION:2.0
PRODID:-//Archers de Draveil Sénart Val de Seine - ECPv6.15.20//NONSGML v1.0//EN
CALSCALE:GREGORIAN
METHOD:PUBLISH
X-WR-CALNAME:Archers de Draveil Sénart Val de Seine
X-ORIGINAL-URL:https://archersdedraveil.com
X-WR-CALDESC:Évènements pour Archers de Draveil Sénart Val de Seine
REFRESH-INTERVAL;VALUE=DURATION:PT1H
X-Robots-Tag:noindex
X-PUBLISHED-TTL:PT1H
BEGIN:VTIMEZONE
TZID:Europe/Paris
BEGIN:DAYLIGHT
TZOFFSETFROM:+0100
TZOFFSETTO:+0200
TZNAME:CEST
DTSTART:20220327T010000
END:DAYLIGHT
BEGIN:STANDARD
TZOFFSETFROM:+0200
TZOFFSETTO:+0100
TZNAME:CET
DTSTART:20221030T010000
END:STANDARD
BEGIN:DAYLIGHT
TZOFFSETFROM:+0100
TZOFFSETTO:+0200
TZNAME:CEST
DTSTART:20230326T010000
END:DAYLIGHT
BEGIN:STANDARD
TZOFFSETFROM:+0200
TZOFFSETTO:+0100
TZNAME:CET
DTSTART:20231029T010000
END:STANDARD
BEGIN:DAYLIGHT
TZOFFSETFROM:+0100
TZOFFSETTO:+0200
TZNAME:CEST
DTSTART:20240331T010000
END:DAYLIGHT
BEGIN:STANDARD
TZOFFSETFROM:+0200
TZOFFSETTO:+0100
TZNAME:CET
DTSTART:20241027T010000
END:STANDARD
END:VTIMEZONE
BEGIN:VEVENT
DTSTART;TZID=Europe/Paris:20230311T073000
DTEND;TZID=Europe/Paris:20230311T123000
DTSTAMP:20260422T121845
CREATED:20230108T191454Z
LAST-MODIFIED:20230109T150205Z
UID:21452-1678519800-1678537800@archersdedraveil.com
SUMMARY:Concours nature samedi 11 mars matin-départ 1
DESCRIPTION:
URL:https://archersdedraveil.com/event/concours-nature-samedi-11-mars-matin-depart1/
LOCATION:Draveil\, 44 Rue Charles Mory\, Draveil\, 91210\, France
ORGANIZER;CN="ARCHERS DE DRAVEIL SENART":MAILTO:concours@archersdedraveil.com
END:VEVENT
BEGIN:VEVENT
DTSTART;TZID=Europe/Paris:20230311T133000
DTEND;TZID=Europe/Paris:20230311T173000
DTSTAMP:20260422T121845
CREATED:20230108T191727Z
LAST-MODIFIED:20230109T150128Z
UID:21454-1678541400-1678555800@archersdedraveil.com
SUMMARY:Concours nature samedi 11 mars après-midi-départ 2
DESCRIPTION:
URL:https://archersdedraveil.com/event/concours-nature-samedi-11-mars-matin-depart-2/
LOCATION:Draveil\, 44 Rue Charles Mory\, Draveil\, 91210\, France
ORGANIZER;CN="ARCHERS DE DRAVEIL SENART":MAILTO:concours@archersdedraveil.com
END:VEVENT
END:VCALENDAR